BEGIN:VCALENDAR
VERSION:2.0
PRODID:-//Nelson Symphony Orchestra - ECPv6.15.20//NONSGML v1.0//EN
CALSCALE:GREGORIAN
METHOD:PUBLISH
X-WR-CALNAME:Nelson Symphony Orchestra
X-ORIGINAL-URL:https://www.nso.nz
X-WR-CALDESC:Events for Nelson Symphony Orchestra
REFRESH-INTERVAL;VALUE=DURATION:PT1H
X-Robots-Tag:noindex
X-PUBLISHED-TTL:PT1H
BEGIN:VTIMEZONE
TZID:Pacific/Auckland
BEGIN:STANDARD
TZOFFSETFROM:+1300
TZOFFSETTO:+1200
TZNAME:NZST
DTSTART:20180331T140000
END:STANDARD
BEGIN:DAYLIGHT
TZOFFSETFROM:+1200
TZOFFSETTO:+1300
TZNAME:NZDT
DTSTART:20180929T140000
END:DAYLIGHT
BEGIN:STANDARD
TZOFFSETFROM:+1300
TZOFFSETTO:+1200
TZNAME:NZST
DTSTART:20190406T140000
END:STANDARD
BEGIN:DAYLIGHT
TZOFFSETFROM:+1200
TZOFFSETTO:+1300
TZNAME:NZDT
DTSTART:20190928T140000
END:DAYLIGHT
BEGIN:STANDARD
TZOFFSETFROM:+1300
TZOFFSETTO:+1200
TZNAME:NZST
DTSTART:20200404T140000
END:STANDARD
BEGIN:DAYLIGHT
TZOFFSETFROM:+1200
TZOFFSETTO:+1300
TZNAME:NZDT
DTSTART:20200926T140000
END:DAYLIGHT
END:VTIMEZONE
BEGIN:VEVENT
DTSTART;TZID=Pacific/Auckland:20190727T193000
DTEND;TZID=Pacific/Auckland:20190727T213000
DTSTAMP:20260424T235613
CREATED:20190305T082831Z
LAST-MODIFIED:20190429T091914Z
UID:3875-1564255800-1564263000@www.nso.nz
SUMMARY:Nelson Symphony Orchestra presents Aotearoa Showcase & Solo Spotlight
DESCRIPTION:Solo spotlight featuring 3 young soloists.\nProgramme of NZ pieces including:\nKo te tatai whetu – Brownlee/Tikao\nGuest Conductor:\nJames Donaldson \nTicket prices excluding service fee:\nAdult: $30\nFamily (2 adults and 2 children): $70\nStudent (under 18 with ID): $15\nA merchant fee may be charged on credit and debit card transactions.\nCash and eftpos available for door sales at Nelson Centre of Musical Arts from 9am – 5pm\, Monday to Friday and one hour prior to the scheduled performance time.\nPlease contact Nelson Centre of Musical Arts if you require wheelchair seating on 03 548 9477 or music@ncma.nz. \n	\n		Share this on Social Media	 \n	\n	\n\n		\n	Share\n\n\n		\n	Tweet\n\n\n		\n	Pin
URL:https://www.nso.nz/event/nelson-symphony-orchestra-presents-aotearoa-showcase/
LOCATION:Nelson Centre of Musical Arts\, Nelson\, 7010\, New Zealand
CATEGORIES:Nelson Symphony Orchestra
ATTACH;FMTTYPE=image/jpeg:https://www.nso.nz/wp-content/uploads/2019/03/Aotearoa.jpg
END:VEVENT
END:VCALENDAR